BEGIN:VCALENDAR
VERSION:2.0
PRODID:-//Visit Johnstown - ECPv6.15.1.1//NONSGML v1.0//EN
CALSCALE:GREGORIAN
METHOD:PUBLISH
X-WR-CALNAME:Visit Johnstown
X-ORIGINAL-URL:https://www.visitjohnstownpa.com
X-WR-CALDESC:Events for Visit Johnstown
REFRESH-INTERVAL;VALUE=DURATION:PT1H
X-Robots-Tag:noindex
X-PUBLISHED-TTL:PT1H
BEGIN:VTIMEZONE
TZID:America/New_York
BEGIN:DAYLIGHT
TZOFFSETFROM:-0500
TZOFFSETTO:-0400
TZNAME:EDT
DTSTART:20260308T070000
END:DAYLIGHT
BEGIN:STANDARD
TZOFFSETFROM:-0400
TZOFFSETTO:-0500
TZNAME:EST
DTSTART:20261101T060000
END:STANDARD
END:VTIMEZONE
BEGIN:VEVENT
DTSTART;TZID=America/New_York:20260422T100000
DTEND;TZID=America/New_York:20260422T190000
DTSTAMP:20260423T015744
CREATED:20260421T161001Z
LAST-MODIFIED:20260421T161001Z
UID:10007192-1776852000-1776884400@www.visitjohnstownpa.com
SUMMARY:Allied Artists of Johnstown Spring Show
DESCRIPTION:The Spring Show from the Allied Artists of Johnstown will be on display in the main gallery space from April 16 – May 30! The members of the AAJ will fill our gallery with work of various styles\, mediums\, and subject matters\, in an exhibition of the area’s talent. There will be a little something for everyone on display\, and many of the works will be available for purchase.
URL:https://www.visitjohnstownpa.com/event/allied-artists-of-johnstown-spring-show/2026-04-22
LOCATION:Bottle Works\, 411 3rd Avenue\, Johnstown\, PA\, 15906\, United States
CATEGORIES:Arts
ATTACH;FMTTYPE=image/jpeg:https://www.visitjohnstownpa.com/wp-content/uploads/2026/04/image0.jpeg
ORGANIZER;CN="Bottle Works":MAILTO:bwinfo@bottleworks.org
END:VEVENT
END:VCALENDAR