BEGIN:VCALENDAR
VERSION:2.0
PRODID:-//Visit Johnstown - ECPv6.15.1.1//NONSGML v1.0//EN
CALSCALE:GREGORIAN
METHOD:PUBLISH
X-WR-CALNAME:Visit Johnstown
X-ORIGINAL-URL:https://www.visitjohnstownpa.com
X-WR-CALDESC:Events for Visit Johnstown
REFRESH-INTERVAL;VALUE=DURATION:PT1H
X-Robots-Tag:noindex
X-PUBLISHED-TTL:PT1H
BEGIN:VTIMEZONE
TZID:America/New_York
BEGIN:DAYLIGHT
TZOFFSETFROM:-0500
TZOFFSETTO:-0400
TZNAME:EDT
DTSTART:20260308T070000
END:DAYLIGHT
BEGIN:STANDARD
TZOFFSETFROM:-0400
TZOFFSETTO:-0500
TZNAME:EST
DTSTART:20261101T060000
END:STANDARD
END:VTIMEZONE
BEGIN:VEVENT
DTSTART;TZID=America/New_York:20260425T100000
DTEND;TZID=America/New_York:20260425T120000
DTSTAMP:20260425T075420
CREATED:20260304T171446Z
LAST-MODIFIED:20260304T171446Z
UID:10007069-1777111200-1777118400@www.visitjohnstownpa.com
SUMMARY:Sandyvale Greenhouse Spring Seminars
DESCRIPTION:Lasagna Gardening – presented by – PSU Certified Master Gardener\, Sue Konvolinka. Recycle\, compost\, and make high-quality soil all at once with this easy\, no-dig gardening technique. Attendees will take home their choice of one plant from the Sandyvale Greenhouse.
URL:https://www.visitjohnstownpa.com/event/sandyvale-greenhouse-spring-seminars-2
LOCATION:Sandyvale Memorial Gardens\, 80 Hickory Street\, Johnstown\, PA\, 15902\, United States
ORGANIZER;CN="Sandyvale Memorial Gardens":MAILTO:dmkdaylily@atlanticbb.net
END:VEVENT
BEGIN:VEVENT
DTSTART;TZID=America/New_York:20260425T100000
DTEND;TZID=America/New_York:20260425T170000
DTSTAMP:20260425T075420
CREATED:20260306T194635Z
LAST-MODIFIED:20260306T194635Z
UID:10007109-1777111200-1777136400@www.visitjohnstownpa.com
SUMMARY:Let Me Be Myself: The Life Story of Anne Frank
DESCRIPTION:This moving exhibition explores Anne Frank’s life within the larger history of the Holocaust and World War II. Through large-scale imagery and historical storytelling\, visitors will follow Anne’s journey while learning about the rise of the Nazi Party and the persecution of Jewish people across Europe. The exhibition will also feature World War II artifacts donated by local residents\, connecting this global story to the personal histories of families throughout the Laurel Highlands\, in a special exhibition titled World War II: Johnstown and Service. Community members trained as docents will guide visitors through the exhibition and help spark meaningful conversations about compassion\, resilience\, and the importance of remembering history.
URL:https://www.visitjohnstownpa.com/event/let-me-be-myself-the-life-story-of-anne-frank/2026-04-25
LOCATION:Heritage Discovery Center\, 201 6th Avenue\, Johnstown\, PA\, 15906\, United States
CATEGORIES:Arts
ATTACH;FMTTYPE=image/jpeg:https://www.visitjohnstownpa.com/wp-content/uploads/2026/03/anne-frank-exhibit-v2b_facebook.jpg
ORGANIZER;CN="Heritage Johnstown":MAILTO:sjohansson@heritagejohnstown.org
END:VEVENT
BEGIN:VEVENT
DTSTART;TZID=America/New_York:20260425T100000
DTEND;TZID=America/New_York:20260425T190000
DTSTAMP:20260425T075420
CREATED:20260421T161001Z
LAST-MODIFIED:20260421T161001Z
UID:10007195-1777111200-1777143600@www.visitjohnstownpa.com
SUMMARY:Allied Artists of Johnstown Spring Show
DESCRIPTION:The Spring Show from the Allied Artists of Johnstown will be on display in the main gallery space from April 16 – May 30! The members of the AAJ will fill our gallery with work of various styles\, mediums\, and subject matters\, in an exhibition of the area’s talent. There will be a little something for everyone on display\, and many of the works will be available for purchase.
URL:https://www.visitjohnstownpa.com/event/allied-artists-of-johnstown-spring-show/2026-04-25
LOCATION:Bottle Works\, 411 3rd Avenue\, Johnstown\, PA\, 15906\, United States
CATEGORIES:Arts
ATTACH;FMTTYPE=image/jpeg:https://www.visitjohnstownpa.com/wp-content/uploads/2026/04/image0.jpeg
ORGANIZER;CN="Bottle Works":MAILTO:bwinfo@bottleworks.org
END:VEVENT
BEGIN:VEVENT
DTSTART;TZID=America/New_York:20260425T120000
DTEND;TZID=America/New_York:20260425T150000
DTSTAMP:20260425T075420
CREATED:20251111T160250Z
LAST-MODIFIED:20251111T160250Z
UID:10005908-1777118400-1777129200@www.visitjohnstownpa.com
SUMMARY:Autism Awareness Arts & Craft Day
DESCRIPTION:This inclusive collab tech hub offers a free community event at least once a year around April in honor of the founder’s brother\, Chaz Antwan Williams\, who passed away in 2014. Chaz was on the spectrum\, and really enjoyed when he had the chance to get out the house & play and go see his friends so we provide one community event free\, within NYC and PA where families can come together\, do arts and craft\, eat snacks\, laugh\, and listen to music to build core memories and experiences without the added expense or frustration.
URL:https://www.visitjohnstownpa.com/event/autism-awareness-arts-craft-day
LOCATION:Craftwork Studios\, 134 Gazebo Park\, Johnstown\, PA\, 15901\, United States
CATEGORIES:Arts,Family Fun
ATTACH;FMTTYPE=image/jpeg:https://www.visitjohnstownpa.com/wp-content/uploads/2025/11/123_1.jpeg
ORGANIZER;CN="TF?!":MAILTO:inquiries@doyoutradefor.com
END:VEVENT
BEGIN:VEVENT
DTSTART;TZID=America/New_York:20260425T120000
DTEND;TZID=America/New_York:20260425T180000
DTSTAMP:20260425T075420
CREATED:20260113T203100Z
LAST-MODIFIED:20260316T195943Z
UID:10006816-1777118400-1777140000@www.visitjohnstownpa.com
SUMMARY:Art in Bloom Spring Art Show
DESCRIPTION:Ebensburg’s premier art show is held the last full weekend of April at the Cambria County Courthouse and is open to artists of all skill levels. Entires are accepted in painting\, photography\, mixed media\, dimensional and drawing. Monetary prizes are awarded to 1st\, 2nd and Honorable Mention in each medium. There is a $10 entry fee per submission.
URL:https://www.visitjohnstownpa.com/event/art-in-bloom-spring-art-show/2026-04-25
LOCATION:Cambria County Courthouse\, 200 South Center Street\, Ebensburg\, 15931\, United States
CATEGORIES:Arts
ATTACH;FMTTYPE=image/jpeg:https://www.visitjohnstownpa.com/wp-content/uploads/2026/01/art-in-bloom.jpg
ORGANIZER;CN="Ebensburg Main Street Partnership":MAILTO:dkoss@ebensburgpa.com
END:VEVENT
BEGIN:VEVENT
DTSTART;TZID=America/New_York:20260425T130000
DTEND;TZID=America/New_York:20260425T150000
DTSTAMP:20260425T075420
CREATED:20260306T195851Z
LAST-MODIFIED:20260306T195851Z
UID:10007077-1777122000-1777129200@www.visitjohnstownpa.com
SUMMARY:Tequila Tasting at the Ethnic Social Club
DESCRIPTION:Just in time for Cinco de Mayo! Your hosts\, April Eyler of Vintage Imports and Marisa Lehman\, Heritage Johnstown’s COO\, will lead a tequila tasting\, followed by how you can use each one to make a perfect margarita — rim and all. Light snacks provided! Guitarist George Byich will be on hand to provide Spanish and Latin inspired music.
URL:https://www.visitjohnstownpa.com/event/tequila-tasting-at-the-ethnic-social-club
LOCATION:Heritage Discovery Center\, 201 6th Avenue\, Johnstown\, PA\, 15906\, United States
ATTACH;FMTTYPE=image/png:https://www.visitjohnstownpa.com/wp-content/uploads/2026/03/2.png
ORGANIZER;CN="Heritage Johnstown":MAILTO:sjohansson@heritagejohnstown.org
END:VEVENT
BEGIN:VEVENT
DTSTART;TZID=America/New_York:20260425T140000
DTEND;TZID=America/New_York:20260425T140000
DTSTAMP:20260425T075420
CREATED:20260324T165641Z
LAST-MODIFIED:20260324T165641Z
UID:10007158-1777125600-1777125600@www.visitjohnstownpa.com
SUMMARY:The Queen's Soiree
DESCRIPTION:A Bridgerton’s Affair. Reimagined. Step into an afternoon of Regency-inspired elegance and modern jazz. Society admission & signature cocktails and desserts. Dress to impress. Event is 21 and over.
URL:https://www.visitjohnstownpa.com/event/the-queens-soiree
LOCATION:The Russell House\, 538 Park Avenue\, Johnstown\, PA\, 15902\, United States
END:VEVENT
BEGIN:VEVENT
DTSTART;TZID=America/New_York:20260425T180000
DTEND;TZID=America/New_York:20260425T200000
DTSTAMP:20260425T075420
CREATED:20260409T160609Z
LAST-MODIFIED:20260409T160609Z
UID:10007183-1777140000-1777147200@www.visitjohnstownpa.com
SUMMARY:Release the Quackin'
DESCRIPTION:Your adult admission ticket to this fun event gives you one duck to float in the pool for your chance to win! Each adult ticket includes your admission\, one duck and dinner. Cash Bar available. There will be 50/50\, pull tabs\, and a basket raffle.
URL:https://www.visitjohnstownpa.com/event/release-the-quackin
LOCATION:Frank J. Pasquerilla Conference Center\, 301 Napoleon Street\, Johnstown\, PA\, 15901\, United States
ATTACH;FMTTYPE=image/png:https://www.visitjohnstownpa.com/wp-content/uploads/2026/04/Screenshot-2026-04-09-10.21.38-AM.png
ORGANIZER;CN="Greater Johnstown Community YMCA":MAILTO:gmichaux@johnstownpaymca.org
END:VEVENT
BEGIN:VEVENT
DTSTART;TZID=America/New_York:20260425T193000
DTEND;TZID=America/New_York:20260425T193000
DTSTAMP:20260425T075420
CREATED:20250905T135103Z
LAST-MODIFIED:20251110T160410Z
UID:10003283-1777145400-1777145400@www.visitjohnstownpa.com
SUMMARY:Johnstown Symphony Orchestra: Musical Roots
DESCRIPTION:As the Johnstown Symphony Orchestra enters its 97th season\, we celebrate two powerful milestones: the 250th anniversary of the United States and Music Director James Blachly’s 10th year with the JSO. This year’s programming honors our nation’s musical heritage with works by iconic American composers like Aaron Copland and Samuel Barber\, bold new voices such as Levi Taylor and Caroline Mallonee\, whose latest composition\, co-commissioned with the New York Philharmonic\, will premiere with us in March\, and the unmistakable influence of jazz\, a cornerstone of American music. Throughout the season\, we reflect on the strength of our community: the people and values that have carried us through challenges and triumphs alike. We honor the roots of our symphony’s success\, our dedicated musicians\, passionate staff\, and steadfast supporters and board members\, while also exploring the personal and collective musical origins that continue to shape our sound. With music that spans generations\, genres\, and traditions\, including classical masterworks and soulful jazz\, there is truly something for everyone.
URL:https://www.visitjohnstownpa.com/event/johnstown-symphony-orchestra-musical-roots/2026-04-25
LOCATION:Pasquerilla Performing Arts Center\, 450 Schoolhouse Road\, Johnstown\, PA\, 15904\, United States
CATEGORIES:Arts,Concerts
ORGANIZER;CN="Johnstown Symphony Orchestra":MAILTO:info@johnstownsymphony.org
END:VEVENT
BEGIN:VEVENT
DTSTART;TZID=America/New_York:20260425T193000
DTEND;TZID=America/New_York:20260425T210000
DTSTAMP:20260425T075420
CREATED:20260129T153413Z
LAST-MODIFIED:20260129T153413Z
UID:10006915-1777145400-1777150800@www.visitjohnstownpa.com
SUMMARY:Chicago Transit Canada - Tribute to Chicago
DESCRIPTION:The longest running Chicago tribute band and the only one to carry four lead vocalists\, just as the band Chicago does. The band\, with its 3 piece horn section\, five piece rythymn section and four lead vocalists is able to cover all the Chicago material from the early horn-dominant classics like ‘Make Me Smile’\, ’25 or 6 to 4’ and ‘Saturday in the Park’ to the later\, softer\, keyboard-oriented ballads like ‘If You Leave Me Now’.
URL:https://www.visitjohnstownpa.com/event/chicago-transit-canada-tribute-to-chicago
LOCATION:Arcadia Theater\, 1418 Graham Avenue\, Windber\, PA\, 15963\, United States
CATEGORIES:Concerts
ORGANIZER;CN="Arcadia Theater":MAILTO:info@arcadiawindber.com
END:VEVENT
BEGIN:VEVENT
DTSTART;TZID=America/New_York:20260425T193000
DTEND;TZID=America/New_York:20260425T223000
DTSTAMP:20260425T075420
CREATED:20260423T153647Z
LAST-MODIFIED:20260423T153647Z
UID:10007235-1777145400-1777156200@www.visitjohnstownpa.com
SUMMARY:VOMA Presents: Candle in the Wind
DESCRIPTION:Johnstown-based jazz ensemble Candle in the Wind will be returning to Venue of Merging Arts intimate listening room\, Club VOMA. The core lineup of Candle in the Wind has played together since 1979\, entertaining at jazz festivals\, corporate events\, private parties and more. The current edition of the group includes Ron Black on lead vocals\, Tom Romanak on drums\, Rich Kingera on keyboards and vocals\, Tim Baacke on bass and vocals\, Joe Tirpek on guitar\, and Greg Maiocco on woodwinds and back-up vocals. The band plays a variety of smooth-sounding jazz and jazz-related sounds; including numbers from Dave Brubeck\, Duke Ellington\, Cannonball Adderley\, Herbie Hancock\, George Gershwin\, Hoagy Carmichael\, Van Morrison\, Bill Withers\, Al Jarreau\, Sting and more. These six musicians demonstrate excellent skills and a lot of enthusiasm\, elevating their jazz into total musical excitement.
URL:https://www.visitjohnstownpa.com/event/voma-presents-candle-in-the-wind
LOCATION:Venue of Merging Arts\, 305 Chestnut Street\, Johnstown\, PA\, 15906\, United States
CATEGORIES:Arts,Live Entertainment
ATTACH;FMTTYPE=image/jpeg:https://www.visitjohnstownpa.com/wp-content/uploads/2026/04/Candle-in-the-Wind-12-12-2025-cropped-scaled.jpg
ORGANIZER;CN="Venue of Merging Arts":MAILTO:thevomaspace@gmail.com
END:VEVENT
END:VCALENDAR